BEGIN:VCALENDAR
VERSION:2.0
PRODID:-//Folk&#039;n Soup Club - ECPv4.6//NONSGML v1.0//EN
CALSCALE:GREGORIAN
METHOD:PUBLISH
X-WR-CALNAME:Folk&#039;n Soup Club
X-ORIGINAL-URL:http://www.folkandsoupclub.ie
X-WR-CALDESC:Events for Folk&#039;n Soup Club
BEGIN:VEVENT
DTSTART;TZID=Europe/London:20171117T213000
DTEND;TZID=Europe/London:20171118T003000
DTSTAMP:20171107T133229
CREATED:20170730T123459Z
LAST-MODIFIED:20171103T175208Z
UID:1752-1510954200-1510965000@www.folkandsoupclub.ie
SUMMARY:17th November\, 2017 - Folk'n Soup Nite # 9
DESCRIPTION:Sarah Buckley\, Padraig Jack\, SILLK\, UR Sport&#8217;n Song Heat # 2\, Soup and more!\n
URL:http://www.folkandsoupclub.ie/event/folkn-soup-nite-8-tales-of-the-unexpected-2/
ATTACH;FMTTYPE=image/png:http://www.folkandsoupclub.ie/wp-content/uploads/2017/03/FnSCircle.png
END:VEVENT
END:VCALENDAR